BEGIN:VCALENDAR
VERSION:2.0
PRODID:-//Rock River Valley Tooling &amp; Machining Association - ECPv6.15.20//NONSGML v1.0//EN
CALSCALE:GREGORIAN
METHOD:PUBLISH
X-ORIGINAL-URL:https://rrvtma.com
X-WR-CALDESC:Events for Rock River Valley Tooling &amp; Machining Association
REFRESH-INTERVAL;VALUE=DURATION:PT1H
X-Robots-Tag:noindex
X-PUBLISHED-TTL:PT1H
BEGIN:VTIMEZONE
TZID:America/Chicago
BEGIN:DAYLIGHT
TZOFFSETFROM:-0600
TZOFFSETTO:-0500
TZNAME:CDT
DTSTART:20250309T080000
END:DAYLIGHT
BEGIN:STANDARD
TZOFFSETFROM:-0500
TZOFFSETTO:-0600
TZNAME:CST
DTSTART:20251102T070000
END:STANDARD
BEGIN:DAYLIGHT
TZOFFSETFROM:-0600
TZOFFSETTO:-0500
TZNAME:CDT
DTSTART:20260308T080000
END:DAYLIGHT
BEGIN:STANDARD
TZOFFSETFROM:-0500
TZOFFSETTO:-0600
TZNAME:CST
DTSTART:20261101T070000
END:STANDARD
BEGIN:DAYLIGHT
TZOFFSETFROM:-0600
TZOFFSETTO:-0500
TZNAME:CDT
DTSTART:20270314T080000
END:DAYLIGHT
BEGIN:STANDARD
TZOFFSETFROM:-0500
TZOFFSETTO:-0600
TZNAME:CST
DTSTART:20271107T070000
END:STANDARD
END:VTIMEZONE
BEGIN:VEVENT
DTSTART;TZID=America/Chicago:20260527T170000
DTEND;TZID=America/Chicago:20260527T210000
DTSTAMP:20260424T085834
CREATED:20260422T155030Z
LAST-MODIFIED:20260422T155744Z
UID:232663-1779901200-1779915600@rrvtma.com
SUMMARY:2026 Apprentice Graduation
DESCRIPTION:We are proud to celebrate the successful completion of the Apprentice Class of 2026! After years of dedication\, skill-building\, and hands-on experience\, they are officially graduating as certified Journeymen. \n\nPlease join us in celebrating this milestone achievement: \nMay 27th Apprentice Graduation\nUMB Bank Pavilion\nAldeen Golf Course\n5:00 Networking & Cash Bar\n6:00 Dinner & Program \nRegistration deadline: May 11th 5:00 \nGraduates & a plus 1 receive complimentary registration.
URL:https://rrvtma.com/event/2026-apprentice-graduation/
LOCATION:UMB Bank Pavilion\, 1868 Reid Farm Rd\, Rockford\, IL\, 61107\, United States
ATTACH;FMTTYPE=image/jpeg:https://rrvtma.com/wp-content/uploads/2026/04/RRVTMA-2026-ApprenticeGraduation.jpg
END:VEVENT
BEGIN:VEVENT
DTSTART;TZID=America/Chicago:20260622T110000
DTEND;TZID=America/Chicago:20260622T190000
DTSTAMP:20260424T085834
CREATED:20260420T194009Z
LAST-MODIFIED:20260420T194646Z
UID:232661-1782126000-1782154800@rrvtma.com
SUMMARY:2026 RRVTMA Golf Play Day
DESCRIPTION:Monday June\, 22nd\nRockford Country Club\n11:00 Lunch/Registration\n12:00 Shot Gun Start\n5:00 Cocktails\n5:30 Dinner & Program\n  \nPremier Sponsor: First Mid Bank & Trust\nCart Sponsor: Cimco Recycling\nLunch Sponsor: Rockford Toolcraft\nPre-Game Sponsor: DMG Mori \n\nRegistration to open soon. 
URL:https://rrvtma.com/event/2026-rrvtma-golf-play-day/
LOCATION:Rockford Country Club\, 2500 Oxford St\, Rockford\, IL\, 61103\, United States
ATTACH;FMTTYPE=image/jpeg:https://rrvtma.com/wp-content/uploads/2026/04/RRVTMA-2026-AnnualGolfPlayday.jpg
END:VEVENT
END:VCALENDAR